BEGIN:VCALENDAR
VERSION:2.0
PRODID:-//Proveda - ECPv6.15.18//NONSGML v1.0//EN
CALSCALE:GREGORIAN
METHOD:PUBLISH
X-WR-CALNAME:Proveda
X-ORIGINAL-URL:https://proveda.com.au
X-WR-CALDESC:Events for Proveda
REFRESH-INTERVAL;VALUE=DURATION:PT1H
X-Robots-Tag:noindex
X-PUBLISHED-TTL:PT1H
BEGIN:VTIMEZONE
TZID:Australia/Sydney
BEGIN:STANDARD
TZOFFSETFROM:+1100
TZOFFSETTO:+1000
TZNAME:AEST
DTSTART:20250405T160000
END:STANDARD
BEGIN:DAYLIGHT
TZOFFSETFROM:+1000
TZOFFSETTO:+1100
TZNAME:AEDT
DTSTART:20251004T160000
END:DAYLIGHT
BEGIN:STANDARD
TZOFFSETFROM:+1100
TZOFFSETTO:+1000
TZNAME:AEST
DTSTART:20260404T160000
END:STANDARD
BEGIN:DAYLIGHT
TZOFFSETFROM:+1000
TZOFFSETTO:+1100
TZNAME:AEDT
DTSTART:20261003T160000
END:DAYLIGHT
BEGIN:STANDARD
TZOFFSETFROM:+1100
TZOFFSETTO:+1000
TZNAME:AEST
DTSTART:20270403T160000
END:STANDARD
BEGIN:DAYLIGHT
TZOFFSETFROM:+1000
TZOFFSETTO:+1100
TZNAME:AEDT
DTSTART:20271002T160000
END:DAYLIGHT
END:VTIMEZONE
BEGIN:VTIMEZONE
TZID:Australia/Brisbane
BEGIN:STANDARD
TZOFFSETFROM:+1000
TZOFFSETTO:+1000
TZNAME:AEST
DTSTART:20250101T000000
END:STANDARD
END:VTIMEZONE
BEGIN:VEVENT
DTSTART;TZID=Australia/Sydney:20260217T173000
DTEND;TZID=Australia/Sydney:20260217T193000
DTSTAMP:20260422T003255
CREATED:20260206T030150Z
LAST-MODIFIED:20260206T030555Z
UID:10007171-1771349400-1771356600@proveda.com.au
SUMMARY:Death over Drinks February 17th in Newcastle
DESCRIPTION:Death over Drinks is BACK for 2026 \n\nWe’re kicking off the year at Grainfed Brewing Company with more of the honest\, real conversations you’ve come to love. This February\, we are privileged to be joined by three incredible local voices: Jeanette Lacey\, Viv Allanson\, and John Ward.\n\n\n\n\n\nOur speakers bring decades of experience in end-of-life care and community support\, and they aren’t afraid to dive into the “You Can’t Ask That” segment. Whether you have a question about the logistics of care or just want to hear how these experts navigate the “awkward” stuff with humor and heart\, this is your night.\n\n\n\nDate: Tuesday\, 17th Feb \nSpeakers: Jeanette Lacey\, Viv Allanson\, and John Ward (6:00 PM – 7:00 PM \nThe Goods: $20 covers your entry\, housemade pizza\, and a welcome drink.\n\n\n\n\n\n Converge with your community—Get tickets here: https://events.humanitix.com/feb26-death-over-drinks\n\n 
URL:https://proveda.com.au/event/death-over-drinks-february-17th-in-newcastle/
LOCATION:GrainFed Brewing Company\, 52 Young Road\, New Lambton\, New South Wales\, 2305\, Australia
CATEGORIES:10 Things to Know Before You Go,Dying To Know Day,End of Life
ATTACH;FMTTYPE=image/jpeg:https://proveda.com.au/wp-content/uploads/2026/02/updated-Humanitix-image-2026-FEB-DOD.jpg
ORGANIZER;CN="Newcastle Compassionate Community":MAILTO:newcompassionatecommunity@gmail.com
GEO:-32.9155606;151.7198694
X-APPLE-STRUCTURED-LOCATION;VALUE=URI;X-ADDRESS=GrainFed Brewing Company 52 Young Road New Lambton New South Wales 2305 Australia;X-APPLE-RADIUS=500;X-TITLE=52 Young Road:geo:151.7198694,-32.9155606
END:VEVENT
BEGIN:VEVENT
DTSTART;TZID=Australia/Sydney:20260302T130000
DTEND;TZID=Australia/Sydney:20260302T150000
DTSTAMP:20260422T003255
CREATED:20251218T034351Z
LAST-MODIFIED:20260309T060506Z
UID:10007100-1772456400-1772463600@proveda.com.au
SUMMARY:Ten Things To Know Before You Go
DESCRIPTION:There’s a lot of information out there about planning well and getting our affairs in order. It can be hard to know where to begin! \nThis 2 hour\, in-person workshop by Danni Petkovic (Campaign Manager for Dying to Know) will help you pull it all together and explore end-of-life planning in an engaging\, accessible way. It will leave you feeling confident in knowing what options are right for you and your family\, while recognising the strength of your existing skills and experience. \nOnly 53% of Australians feel able to talk to another family member about end of life. The Ten Things to Know Before You Go workshop gives you the tools for these essential planning conversations to flow easily and productively. \nFrom accessing the legal documents to planning a funeral and understanding palliative care\, this workshop covers all the essentials and helps you navigate ‘what’s next’\, in a relaxed\, supportive learning environment with other people who are looking to plan well. \nPrevious participants have left feeling more empowered with knowledge about navigating different aspects of the end of life system. 80% of participants have reported that they took direct action in end of life planning as a result of the workshop. \nWe will assist you to:  \n\n Plan for the future and ensure your wishes are understood.\n Respond with care when a loved one is grieving.\n Build a support network that prioritises social and emotional wellbeing for end-of-life.\n\nWe will also provide a free afternoon tea afterward\, giving you the opportunity to have a chat with the team at Proveda and other like minded individuals. \nAdditionally\, it’s important to remember that you don’t need to be facing a terminal diagnosis to start planning for end-of-life matters. Preparing in advance can bring peace of mind and ensure that your personal and financial affairs are in order. It’s never too early to make informed decisions\, giving you control over your legacy and easing the burden on your loved ones.   \nJoin us for Ten Things to Know Before You Go to learn more about how to approach these important decisions with confidence.  \n\n 
URL:https://proveda.com.au/event/ten-things-to-know-before-you-go-5/
LOCATION:RSL ANZAC Village (The War Vets)\, Lone Pine Function Room\, Level 3\, Gallipoli Building\, 8 Edmondson Drive\, Narrabeen\, NSW\, 2101\, Australia
CATEGORIES:Belong Club,Dying To Know Day
ATTACH;FMTTYPE=image/png:https://proveda.com.au/wp-content/uploads/2025/12/Ten-Things-To-Know-Before-You-Go-WEB-1-scaled.png
ORGANIZER;CN="Proveda":MAILTO:events@proveda.com.au
GEO:-33.7219935;151.2859393
X-APPLE-STRUCTURED-LOCATION;VALUE=URI;X-ADDRESS=RSL ANZAC Village (The War Vets) Lone Pine Function Room Level 3 Gallipoli Building 8 Edmondson Drive Narrabeen NSW 2101 Australia;X-APPLE-RADIUS=500;X-TITLE=Lone Pine Function Room\, Level 3\, Gallipoli Building\, 8 Edmondson Drive:geo:151.2859393,-33.7219935
END:VEVENT
BEGIN:VEVENT
DTSTART;TZID=Australia/Brisbane:20260303T093000
DTEND;TZID=Australia/Brisbane:20260303T113000
DTSTAMP:20260422T003255
CREATED:20260210T012845Z
LAST-MODIFIED:20260217T025154Z
UID:10007111-1772530200-1772537400@proveda.com.au
SUMMARY:Matters of Life and Death Cafe
DESCRIPTION:“What is your Matters of Life and Death Cafe?“??? \nIt sounds rather odd\, right? Matters of Life and Death.  Believe it or not\, it has become a space for people to come together and have honest and direct conversations about death stuff. \nThe common topics are \n\n“What to do when?”\n“What is an Advanced Care Plan\, and what does it do?”\n“What happens to me after I have gone? Where does the body go?”\n“What types of celebrations can I have? or How can I be loved and remembered. “\n\nSo many other questions\, and some are a lot more personal too. \nIt’s not a counselling space.\nIt’s not a grief group.\nIt’s a welcoming space for people to meet and connect. \nIt’s a space to ask questions\, explore concerns\, apprehension and fears. \nA space to dream of what could be\, and get ideas of what to do\, especially for the funeral/wake/life celebration. \nLet’s face it\, too many people are not comfortable talking about death\, planning their own death or wanting to know more about the life options available to them. \nThere are sooooooooo many ways to do death and farewells.\nYou can design or create anything that aligns with your personality and your wishes.\nYOU need to talk about it and don’t leave your loved ones clueless and guessing!!! \nPlease join us at The Redcliffe Treehouse. Ask all the questions you’re dying to know about. \nTo be honest\, it is a Self-care and loving act for your family and friends\, taking the guesswork out of a very stressful time.  Just think\, it could easily be your last hoora\, and you can plan it down to the smallest detail\, if you choose to.
URL:https://proveda.com.au/event/matters-of-life-and-death-cafe-2/2026-03-03/
LOCATION:Redcliffe Treehouse.\, 35 Redcliffe Parade\, Redcliffe\, Queensland\, 4020\, Australia
CATEGORIES:Dying To Know Day,End of Life
ATTACH;FMTTYPE=image/png:https://proveda.com.au/wp-content/uploads/2026/02/MATTERS-of-Life-and-death-5.png
ORGANIZER;CN="Honouring Life Education":MAILTO:info@honouringlifeeducation.com.au
GEO:-27.2301558;153.1160455
X-APPLE-STRUCTURED-LOCATION;VALUE=URI;X-ADDRESS=Redcliffe Treehouse. 35 Redcliffe Parade Redcliffe Queensland 4020 Australia;X-APPLE-RADIUS=500;X-TITLE=35 Redcliffe Parade:geo:153.1160455,-27.2301558
END:VEVENT
BEGIN:VEVENT
DTSTART;TZID=Australia/Sydney:20260304T170000
DTEND;TZID=Australia/Sydney:20260304T183000
DTSTAMP:20260422T003255
CREATED:20260206T024450Z
LAST-MODIFIED:20260206T025300Z
UID:10007170-1772643600-1772649000@proveda.com.au
SUMMARY:Rest Assured: What to do when the time comes
DESCRIPTION:Rest Assured invites you to join our first webinar of the year\, “When the time comes: What to do before and after someone dies\,” on Wednesday\, 4 March 2026 at 5pm AEDT. \nDeath is inevitable\, yet many of us feel unprepared and unsure about what to do when someone dies. \nThis webinar will provide clear\, practical guidance on the steps that can be taken before a death occurs\, as well as what to do after the time comes\, supporting individuals\, families and carers through both stages. \nWhether you are caring for a loved one\, thinking ahead about your own wishes or work in a care or community role\, this webinar aims to help you feel more prepared\, informed and supported.
URL:https://proveda.com.au/event/rest-assured-what-to-do-when-the-time-comes/
LOCATION:Online
CATEGORIES:Dying To Know Day,End of Life,Webinar
ATTACH;FMTTYPE=image/png:https://proveda.com.au/wp-content/uploads/2026/02/4-March-Webinar-Banner-Proveda-resize.png
ORGANIZER;CN="Metropolitan Memorial Parks":MAILTO:marketing@mmplm.com.au
END:VEVENT
BEGIN:VEVENT
DTSTART;TZID=Australia/Sydney:20260309T100000
DTEND;TZID=Australia/Sydney:20260309T120000
DTSTAMP:20260422T003255
CREATED:20251218T035310Z
LAST-MODIFIED:20260309T060516Z
UID:10007108-1773050400-1773057600@proveda.com.au
SUMMARY:Ten Things To Know Before You Go
DESCRIPTION:There’s a lot of information out there about planning well and getting our affairs in order. It can be hard to know where to begin! \nThis 2 hour\, in-person workshop by Danni Petkovic (Campaign Manager for Dying to Know) will help you pull it all together and explore end-of-life planning in an engaging\, accessible way. It will leave you feeling confident in knowing what options are right for you and your family\, while recognising the strength of your existing skills and experience. \nOnly 53% of Australians feel able to talk to another family member about end of life. The Ten Things to Know Before You Go workshop gives you the tools for these essential planning conversations to flow easily and productively. \nFrom accessing the legal documents to planning a funeral and understanding palliative care\, this workshop covers all the essentials and helps you navigate ‘what’s next’\, in a relaxed\, supportive learning environment with other people who are looking to plan well. \nPrevious participants have left feeling more empowered with knowledge about navigating different aspects of the end of life system. 80% of participants have reported that they took direct action in end of life planning as a result of the workshop. \nWe will assist you to:  \n\n Plan for the future and ensure your wishes are understood.\n Respond with care when a loved one is grieving.\n Build a support network that prioritises social and emotional wellbeing for end-of-life.\n\nWe will also provide a free afternoon tea afterward\, giving you the opportunity to have a chat with the team at Proveda and other like minded individuals. \nAdditionally\, it’s important to remember that you don’t need to be facing a terminal diagnosis to start planning for end-of-life matters. Preparing in advance can bring peace of mind and ensure that your personal and financial affairs are in order. It’s never too early to make informed decisions\, giving you control over your legacy and easing the burden on your loved ones.   \nJoin us for Ten Things to Know Before You Go to learn more about how to approach these important decisions with confidence.  \n\n 
URL:https://proveda.com.au/event/ten-things-to-know-before-you-go-6/
LOCATION:Turramurra Seniors Centre Community Hall\, 1 Gilroy Rd\, Turramurra\, NSW\, 2074\, Australia
CATEGORIES:Belong Club,Dying To Know Day
ATTACH;FMTTYPE=image/png:https://proveda.com.au/wp-content/uploads/2025/12/Ten-Things-To-Know-Before-You-Go-WEB-1-scaled.png
ORGANIZER;CN="Proveda":MAILTO:events@proveda.com.au
GEO:-33.732046;151.12961
X-APPLE-STRUCTURED-LOCATION;VALUE=URI;X-ADDRESS=Turramurra Seniors Centre Community Hall 1 Gilroy Rd Turramurra NSW 2074 Australia;X-APPLE-RADIUS=500;X-TITLE=1 Gilroy Rd:geo:151.12961,-33.732046
END:VEVENT
BEGIN:VEVENT
DTSTART;TZID=Australia/Brisbane:20260407T093000
DTEND;TZID=Australia/Brisbane:20260407T113000
DTSTAMP:20260422T003255
CREATED:20260210T012845Z
LAST-MODIFIED:20260217T025154Z
UID:10007112-1775554200-1775561400@proveda.com.au
SUMMARY:Matters of Life and Death Cafe
DESCRIPTION:“What is your Matters of Life and Death Cafe?“??? \nIt sounds rather odd\, right? Matters of Life and Death.  Believe it or not\, it has become a space for people to come together and have honest and direct conversations about death stuff. \nThe common topics are \n\n“What to do when?”\n“What is an Advanced Care Plan\, and what does it do?”\n“What happens to me after I have gone? Where does the body go?”\n“What types of celebrations can I have? or How can I be loved and remembered. “\n\nSo many other questions\, and some are a lot more personal too. \nIt’s not a counselling space.\nIt’s not a grief group.\nIt’s a welcoming space for people to meet and connect. \nIt’s a space to ask questions\, explore concerns\, apprehension and fears. \nA space to dream of what could be\, and get ideas of what to do\, especially for the funeral/wake/life celebration. \nLet’s face it\, too many people are not comfortable talking about death\, planning their own death or wanting to know more about the life options available to them. \nThere are sooooooooo many ways to do death and farewells.\nYou can design or create anything that aligns with your personality and your wishes.\nYOU need to talk about it and don’t leave your loved ones clueless and guessing!!! \nPlease join us at The Redcliffe Treehouse. Ask all the questions you’re dying to know about. \nTo be honest\, it is a Self-care and loving act for your family and friends\, taking the guesswork out of a very stressful time.  Just think\, it could easily be your last hoora\, and you can plan it down to the smallest detail\, if you choose to.
URL:https://proveda.com.au/event/matters-of-life-and-death-cafe-2/2026-04-07/
LOCATION:Redcliffe Treehouse.\, 35 Redcliffe Parade\, Redcliffe\, Queensland\, 4020\, Australia
CATEGORIES:Dying To Know Day,End of Life
ATTACH;FMTTYPE=image/png:https://proveda.com.au/wp-content/uploads/2026/02/MATTERS-of-Life-and-death-5.png
ORGANIZER;CN="Honouring Life Education":MAILTO:info@honouringlifeeducation.com.au
GEO:-27.2301558;153.1160455
X-APPLE-STRUCTURED-LOCATION;VALUE=URI;X-ADDRESS=Redcliffe Treehouse. 35 Redcliffe Parade Redcliffe Queensland 4020 Australia;X-APPLE-RADIUS=500;X-TITLE=35 Redcliffe Parade:geo:153.1160455,-27.2301558
END:VEVENT
END:VCALENDAR