BEGIN:VCALENDAR
VERSION:2.0
PRODID:-//Proveda - ECPv6.15.20//NONSGML v1.0//EN
CALSCALE:GREGORIAN
METHOD:PUBLISH
X-WR-CALNAME:Proveda
X-ORIGINAL-URL:https://proveda.com.au
X-WR-CALDESC:Events for Proveda
REFRESH-INTERVAL;VALUE=DURATION:PT1H
X-Robots-Tag:noindex
X-PUBLISHED-TTL:PT1H
BEGIN:VTIMEZONE
TZID:Australia/Sydney
BEGIN:STANDARD
TZOFFSETFROM:+1100
TZOFFSETTO:+1000
TZNAME:AEST
DTSTART:20250405T160000
END:STANDARD
BEGIN:DAYLIGHT
TZOFFSETFROM:+1000
TZOFFSETTO:+1100
TZNAME:AEDT
DTSTART:20251004T160000
END:DAYLIGHT
BEGIN:STANDARD
TZOFFSETFROM:+1100
TZOFFSETTO:+1000
TZNAME:AEST
DTSTART:20260404T160000
END:STANDARD
BEGIN:DAYLIGHT
TZOFFSETFROM:+1000
TZOFFSETTO:+1100
TZNAME:AEDT
DTSTART:20261003T160000
END:DAYLIGHT
BEGIN:STANDARD
TZOFFSETFROM:+1100
TZOFFSETTO:+1000
TZNAME:AEST
DTSTART:20270403T160000
END:STANDARD
BEGIN:DAYLIGHT
TZOFFSETFROM:+1000
TZOFFSETTO:+1100
TZNAME:AEDT
DTSTART:20271002T160000
END:DAYLIGHT
END:VTIMEZONE
BEGIN:VEVENT
DTSTART;TZID=Australia/Sydney:20261217T100000
DTEND;TZID=Australia/Sydney:20261217T120000
DTSTAMP:20260425T020249
CREATED:20240206T224459Z
LAST-MODIFIED:20251120T000859Z
UID:10006988-1797501600-1797508800@proveda.com.au
SUMMARY:Connected Café: Narrabeen
DESCRIPTION:Our Connected Café groups are held in many different locations on the Northern Beaches.\nThese casual coffee groups are led by local people who are dedicated to supporting people to connect with their community in a meaningful way.
URL:https://proveda.com.au/event/connected-cafe-narrabeen/2026-12-17/
LOCATION:H20 Café\, Pittwater Road\, Narrabeen\, NSW\, 2101\, Australia
CATEGORIES:Belong Club
ATTACH;FMTTYPE=image/png:https://proveda.com.au/wp-content/uploads/2024/02/BC-Event-Connected-Cafe-WEB-1.png
ORGANIZER;CN="Proveda":MAILTO:events@proveda.com.au
GEO:-33.712946;151.29697
X-APPLE-STRUCTURED-LOCATION;VALUE=URI;X-ADDRESS=H20 Café Pittwater Road Narrabeen NSW 2101 Australia;X-APPLE-RADIUS=500;X-TITLE=Pittwater Road:geo:151.29697,-33.712946
END:VEVENT
BEGIN:VEVENT
DTSTART;TZID=Australia/Sydney:20261218T093000
DTEND;TZID=Australia/Sydney:20261218T113000
DTSTAMP:20260425T020249
CREATED:20240722T044127Z
LAST-MODIFIED:20251119T232826Z
UID:10006625-1797586200-1797593400@proveda.com.au
SUMMARY:Manly Walking Group
DESCRIPTION:The Belong Club invites anyone to come and participate in this Belong Club Walking Group that runs every Friday. \nThe route we will be walking is from Queenscliff Surf Club to Shelly Beach where we stop for a coffee at the Boat House. There is no pressure to purchase anything if you would just like to continue enjoying the good company. After our caffeine hit we head back to The Corso or all the way back to Queenscliff. \nThe planned route is a 2.4km paved path and Google maps suggest it will take about 30 minutes. On the way back it is 1.3km back to The Corso or 2.4km back to the start point at Queenscliff Surf Club. \nGroup members are welcome to split off into smaller groups or even pairs to allow everyone to go at their preferred pace. \nThe aim here is for everyone to be included and to have an enjoyable walk. \nMeeting point details: Meet outside\, undercover at the Queenscliff Surf Club\, N Steyne & Collingwood St\, Manly NSW 2095. Please note: when looking up Queenscliff Surf Club on Apple Maps\, it pins the surf club on Manly Beach. This is incorrect\, please refer to google maps for correct location.
URL:https://proveda.com.au/event/manly-walking-group-2/2026-12-18/
LOCATION:Queenscliff Surf Life Saving Club\, Manly\, Northern Beaches Council\, 2095\, Australia
CATEGORIES:Belong Club
ATTACH;FMTTYPE=image/png:https://proveda.com.au/wp-content/uploads/2024/01/BC-Event-Manly-Walk-WEB.png
ORGANIZER;CN="Proveda":MAILTO:events@proveda.com.au
GEO:-33.7860022;151.2874578
END:VEVENT
BEGIN:VEVENT
DTSTART;TZID=Australia/Sydney:20261221T090000
DTEND;TZID=Australia/Sydney:20261221T100000
DTSTAMP:20260425T020249
CREATED:20240124T234929Z
LAST-MODIFIED:20260312T002459Z
UID:10006522-1797843600-1797847200@proveda.com.au
SUMMARY:Long Reef Walking Group
DESCRIPTION:Join us for a fun-filled morning\, walking and exploring the beautiful Long Reef headland! Lace up your sneakers and get ready to soak in the stunning coastal views and fresh ocean breeze. \nThe group will meet every Monday at 9 am on the grass at the southern side of the Long Reef Golf Club. We will head eastbound along the paved path toward the headland. There is a slight incline which is worth it for the view. Once we reach the top\, we can soak in the spectacular view and with any luck\, we may see bird life\, hang gliders\, dolphins\, and whales. We will continue along the trail atop the coastal cliffs toward Long Reef Beach. Once the trail reaches the beach\, we will stop for coffee at Butterbox Cafe\, before continuing our walk along a wooden boardwalk through the bushland. The path will take us through to Griffith Park where we will finish our walk back at our starting point. \nWhether you’re a seasoned hiker or just starting out\, this event is perfect for all fitness levels. The track is an easy walk with a slight incline at the beginning. It’s a 3 km circuit and should take about 1-1.5 hours. \nDon’t forget to bring your water bottle\, sunscreen\, and comfortable walking shoes. \nJoin the Long Reef Walking Group and let’s make unforgettable memories together. See you there! \n\n\n\nImportant information\nWeather\, safety and responsibility \nIt is important that you make your own decisions regarding your comfort and safety. This is particularly relevant to weather and walk suitability. The decision to undertake the event is at your discretion and by registering for the event you deem yourself fit and capable of safely participating in the event. \nFor example\, some might be comfortable walking in light rain with a rain jacket\, others may be less comfortable due to the lower visibility or increased slipping hazard. In poor weather days there may only be one or two people who show up to complete that week’s walk. The decision to do the walk is left to personal choice. \nHowever\, if we meet up and decide that the walk will be no fun\, the backup plan is to go for a coffee at a local cafe! \nParking \nThere is plenty of parking along Anzac Ave. Please check parking rules before leaving your car.
URL:https://proveda.com.au/event/long-reef-walking-group/2026-12-21/
LOCATION:Long Reef Golf Club\, Anzac Avenue\, Collaroy\, Northern Beaches Council\, 2097\, Australia
CATEGORIES:Belong Club
ATTACH;FMTTYPE=image/png:https://proveda.com.au/wp-content/uploads/2024/01/BC-Event-Long-Reef-Walk-2-WEB.png
ORGANIZER;CN="Proveda":MAILTO:events@proveda.com.au
GEO:-33.7388996;151.3068986
X-APPLE-STRUCTURED-LOCATION;VALUE=URI;X-ADDRESS=Long Reef Golf Club Anzac Avenue Collaroy Northern Beaches Council 2097 Australia;X-APPLE-RADIUS=500;X-TITLE=Anzac Avenue:geo:151.3068986,-33.7388996
END:VEVENT
BEGIN:VEVENT
DTSTART;TZID=Australia/Sydney:20261222T103000
DTEND;TZID=Australia/Sydney:20261222T120000
DTSTAMP:20260425T020249
CREATED:20240206T052530Z
LAST-MODIFIED:20251120T000506Z
UID:10006885-1797935400-1797940800@proveda.com.au
SUMMARY:Connected Café: Balgowlah
DESCRIPTION:Our Connected Café groups are held in many different locations on the Northern Beaches.\nThese casual coffee groups are led by local people who are dedicated to supporting people to connect with their community in a meaningful way.
URL:https://proveda.com.au/event/connected-cafe-balgowlah/2026-12-22/
LOCATION:Roseberry St Cafe\, Balgowlah Road\, Balgowlah\, Northern Beaches Council\, 2093\, Australia
CATEGORIES:Belong Club
ATTACH;FMTTYPE=image/png:https://proveda.com.au/wp-content/uploads/2024/02/BC-Event-Connected-Cafe-WEB-1.png
ORGANIZER;CN="Proveda":MAILTO:events@proveda.com.au
GEO:-33.7902538;151.2670984
X-APPLE-STRUCTURED-LOCATION;VALUE=URI;X-ADDRESS=Roseberry St Cafe Balgowlah Road Balgowlah Northern Beaches Council 2093 Australia;X-APPLE-RADIUS=500;X-TITLE=Balgowlah Road:geo:151.2670984,-33.7902538
END:VEVENT
BEGIN:VEVENT
DTSTART;TZID=Australia/Sydney:20261222T133000
DTEND;TZID=Australia/Sydney:20261222T153000
DTSTAMP:20260425T020249
CREATED:20240131T045948Z
LAST-MODIFIED:20260416T004729Z
UID:10006728-1797946200-1797953400@proveda.com.au
SUMMARY:Tea and Table Games
DESCRIPTION:Join us for an afternoon of fun and laughter at our Tea and Table Games. Get ready to indulge in a delightful range of table games in the Courtyard at Dee Why RSL. Whether you’re a seasoned player or a beginner\, this event promises a fantastic time for all. \nThis social get together is for anyone who enjoys games\, wants to keep their brain fit\, is keen to meet some other locals and likes to get out and about to their local cafe. Challenge your friends or meet new people as you engage in a variety of board games. From classic favorites like Bananagrams and Rummikub to modern hits like Sequence\, we have something for everyone. Unleash your competitive spirit and have a blast! \nThe more the merrier so invite your neighbours\, friends\, and family. \n(Food and drink at own discretion and expense. No pressure to purchase!) \n\n  \n\nAbout The Host \nVal is a driven\, community-minded individual with a love for reading\, gardening\, walking and board games. Val loves all kinds of books – from historical fiction\, to fantasy\, to modern realist books. \nA major part of Val’s life at the moment is Curly Community Garden\, a garden she’s been heavily involved with since its inception in 2016. Her favourite part of the garden is the way it brings together so many people from the community and gives joy to many peoples’ lives – from garden members to passers by. \nVal loves walking\, and you can often see her on her favourite walking routes between Dee Why and Freshwater. She also likes to explore other parts of the great outdoors on family outings with her two adult children and husband. \nAt home\, Val and her family love to play board and card games\, and have a huge collection that takes up a few shelves of their storage closet!
URL:https://proveda.com.au/event/tea-and-table-games/2026-12-22/
LOCATION:Dee Why RSL\, Pittwater Road\, Dee Why\, Northern Beaches Council\, 2099\, Australia
CATEGORIES:Belong Club
ATTACH;FMTTYPE=image/png:https://proveda.com.au/wp-content/uploads/2024/01/BC-Event-Tea-and-Table-Games-WEB.png
GEO:-33.7501509;151.2900587
X-APPLE-STRUCTURED-LOCATION;VALUE=URI;X-ADDRESS=Dee Why RSL Pittwater Road Dee Why Northern Beaches Council 2099 Australia;X-APPLE-RADIUS=500;X-TITLE=Pittwater Road:geo:151.2900587,-33.7501509
END:VEVENT
BEGIN:VEVENT
DTSTART;TZID=Australia/Sydney:20261222T140000
DTEND;TZID=Australia/Sydney:20261222T160000
DTSTAMP:20260425T020249
CREATED:20240206T053437Z
LAST-MODIFIED:20251120T000720Z
UID:10006938-1797948000-1797955200@proveda.com.au
SUMMARY:Connected Café: Frenchs Forest
DESCRIPTION:Our Connected Café groups are held in many different locations on the Northern Beaches.\nThese casual coffee groups are led by local people who are dedicated to supporting people to connect with their community in a meaningful way.
URL:https://proveda.com.au/event/connected-cafe-frenchs-forest/2026-12-22/
LOCATION:Guzman Y Gomez\, Frenchs Forest\, NSW\, 2086\, Australia
CATEGORIES:Belong Club
ATTACH;FMTTYPE=image/png:https://proveda.com.au/wp-content/uploads/2024/02/BC-Event-Connected-Cafe-WEB-1.png
ORGANIZER;CN="Proveda":MAILTO:events@proveda.com.au
GEO:-33.7512632;151.2440201
END:VEVENT
BEGIN:VEVENT
DTSTART;TZID=Australia/Sydney:20261223T110000
DTEND;TZID=Australia/Sydney:20261223T113000
DTSTAMP:20260425T020249
CREATED:20240131T045739Z
LAST-MODIFIED:20251119T234613Z
UID:10006779-1798023600-1798025400@proveda.com.au
SUMMARY:Weekly Quiz
DESCRIPTION:Join us for the Weekly Quiz – a fun and interactive online event where you can test your knowledge and make new friends! Get ready to put your thinking caps on and dive into a world of trivia\, puzzles\, and brain teasers. \nWhether you’re a trivia buff or just looking for some midweek entertainment\, this event is perfect for you. Grab your favorite snack\, gather your friends\, and get ready to embark on an exciting journey of mind-boggling questions. \nThe Weekly Quiz promises an engaging experience that will keep you on your toes. Test your knowledge across various categories\, from history and science to pop culture and sports. With a mix of easy and challenging questions\, there’s something for everyone. \nJoin us for the Weekly Quiz and let the games begin!
URL:https://proveda.com.au/event/weekly-quiz/2026-12-23/
LOCATION:https://proveda.com.au/event/weekly-quiz/2026-12-23/
CATEGORIES:Belong Club
ATTACH;FMTTYPE=image/png:https://proveda.com.au/wp-content/uploads/2024/01/BC-Event-Weekly-Quiz-WEB.png
ORGANIZER;CN="Proveda":MAILTO:events@proveda.com.au
END:VEVENT
BEGIN:VEVENT
DTSTART;TZID=Australia/Sydney:20261224T100000
DTEND;TZID=Australia/Sydney:20261224T120000
DTSTAMP:20260425T020249
CREATED:20240206T224459Z
LAST-MODIFIED:20251120T000859Z
UID:10006989-1798106400-1798113600@proveda.com.au
SUMMARY:Connected Café: Narrabeen
DESCRIPTION:Our Connected Café groups are held in many different locations on the Northern Beaches.\nThese casual coffee groups are led by local people who are dedicated to supporting people to connect with their community in a meaningful way.
URL:https://proveda.com.au/event/connected-cafe-narrabeen/2026-12-24/
LOCATION:H20 Café\, Pittwater Road\, Narrabeen\, NSW\, 2101\, Australia
CATEGORIES:Belong Club
ATTACH;FMTTYPE=image/png:https://proveda.com.au/wp-content/uploads/2024/02/BC-Event-Connected-Cafe-WEB-1.png
ORGANIZER;CN="Proveda":MAILTO:events@proveda.com.au
GEO:-33.712946;151.29697
X-APPLE-STRUCTURED-LOCATION;VALUE=URI;X-ADDRESS=H20 Café Pittwater Road Narrabeen NSW 2101 Australia;X-APPLE-RADIUS=500;X-TITLE=Pittwater Road:geo:151.29697,-33.712946
END:VEVENT
END:VCALENDAR