BEGIN:VCALENDAR
VERSION:2.0
PRODID:-//Proveda - ECPv6.15.18//NONSGML v1.0//EN
CALSCALE:GREGORIAN
METHOD:PUBLISH
X-WR-CALNAME:Proveda
X-ORIGINAL-URL:https://proveda.com.au
X-WR-CALDESC:Events for Proveda
REFRESH-INTERVAL;VALUE=DURATION:PT1H
X-Robots-Tag:noindex
X-PUBLISHED-TTL:PT1H
BEGIN:VTIMEZONE
TZID:Australia/Sydney
BEGIN:STANDARD
TZOFFSETFROM:+1100
TZOFFSETTO:+1000
TZNAME:AEST
DTSTART:20250405T160000
END:STANDARD
BEGIN:DAYLIGHT
TZOFFSETFROM:+1000
TZOFFSETTO:+1100
TZNAME:AEDT
DTSTART:20251004T160000
END:DAYLIGHT
BEGIN:STANDARD
TZOFFSETFROM:+1100
TZOFFSETTO:+1000
TZNAME:AEST
DTSTART:20260404T160000
END:STANDARD
BEGIN:DAYLIGHT
TZOFFSETFROM:+1000
TZOFFSETTO:+1100
TZNAME:AEDT
DTSTART:20261003T160000
END:DAYLIGHT
BEGIN:STANDARD
TZOFFSETFROM:+1100
TZOFFSETTO:+1000
TZNAME:AEST
DTSTART:20270403T160000
END:STANDARD
BEGIN:DAYLIGHT
TZOFFSETFROM:+1000
TZOFFSETTO:+1100
TZNAME:AEDT
DTSTART:20271002T160000
END:DAYLIGHT
END:VTIMEZONE
BEGIN:VEVENT
DTSTART;TZID=Australia/Sydney:20260808T150000
DTEND;TZID=Australia/Sydney:20260808T190000
DTSTAMP:20260420T193546
CREATED:20260219T035529Z
LAST-MODIFIED:20260219T035529Z
UID:10007350-1786201200-1786215600@proveda.com.au
SUMMARY:🎭 Cark It Café: Destination Death – The Final Stop: Event 4 of 4 Hosted by Jewelz the Hoola Doola of Cark It Café
DESCRIPTION:All aboard for the final leg of this creative journey into mortality — no passport required! \nWe come full circle… we have covered so many important topics and hopefully your “Destination Death Folders” are complete. Let us celebrate! \nHosted by Jewelz — the Hoola Doola of Destination Death — is a queer multidisciplinary artist\, performer\, and death doula using storytelling\, art\, and humour to open up essential conversations around dying\, death\, and end-of-life planning. With a rich background as a travel planner\, tour leader\, hoopologist\, and educator\, Jewelz now leads transformative explorations into mortality through Cark It Café: Creative Conversations on Death & Dying for LGBTIQ+. \nThese inclusive events have woven together memento mori-inspired workshops\, poetry\, music\, movement\, art\, and dialogue to help participants plan for the inevitable with openness\, curiosity\, and care — reducing fear and building brave\, Compassionate Communities. \n🕘️ Final Event Highlights \nWe’ve art-ed\, poetry-ed\, woven\, danced\, and sung — now it’s time to celebrate! \nJoin us for a vibrant afternoon and early evening of creativity and community as we: \n\nShowcase artworks and memento mori creations from the past 3 events\, curated by Gillian Wright and exhibited alongside works by other queer artists\n\nFeature performances by: \n\n🎶 Cassy Judy – comedy queen\, singer-songwriter & legal aid lawyer\n💃 Diane Busuttil – movement artist and dance theatre provocateur\n💃 Jewelz A Hoopz – performer\, death doula\, Hoola Doola extraordinaire\n✍️ Pixie Willo – queer poet & creative arts therapist\n\nExhibit creative responses from workshops with: \n\n🎨 Emmie Murphy – Memento Mori art workshop\n📝 Pixie Willo – Death Slam poetry workshop\n🎶 Cassy Judy – Songwriting and music with heart and hilarity\n💃 Diane Busuttil – Danse Macabre movement workshop\n🧶 Jewelz A Hoopz – Heart Hoop weaving\n\nAnd bring it all home with live music\, creative installations\, and maybe a few cheeky surprises… \n🎥 This event will be filmed by Jax North of North Productions\, who is a Curator and Creative Producer of exhibitions\, events\, film\, and immersive light art. \nThis grand finale is both a celebration and a call to action — a space to honour life\, embrace death\, and keep the conversation going. \n💫 Project Goals \nCark It Café aims to: \n\nImprove Death Literacy and awareness of end-of-life options\nUse art and conversation to encourage practical planning\nReduce fear and promote well-being\nCultivate Compassionate Communities\nEmpower individuals and celebrate the stories of LGBTIQ+ lives\n\n🎟️ Access & Registration \nThis celebration is FREE but registration is essential.\nThere will be the opportunity to make a non-tax-deductible contribution toward future events.\nIf you’d like to support Myeloma Australia in memory of Jewelz’s “Big Bad Baba\,” you can donate here:\n👉 justgiving.com/page/jewelz-cark-it-cafe \n🙏 Acknowledgements & Gratitude \nThis project is supported by: \n\nCity of Sydney Creative Grants\nDying to Know Day Grants\n\nBig thanks to: \n\nACON – The LOVE Project\nDaisybox® – for donating the strong\, simple\, and sustainable cardboard casket\nDying With Dignity NSW\nPalliative Care NSW\nLisa Hanssens – actual sister\, performing together as the La La Sistarz\, circus crime collaborator\, amazing actor\, gifter of the name Cark It Café\, and assistant on this project
URL:https://proveda.com.au/event/%f0%9f%8e%ad-cark-it-cafe-destination-death-the-final-stop-event-4-of-4-hosted-by-jewelz-the-hoola-doola-of-cark-it-cafe/
LOCATION:East Sydney Community and Arts Centre\, 40 Burton Street\, Darlinghurst\, NSW\, 2010\, Australia
CATEGORIES:Dying To Know Day
ATTACH;FMTTYPE=image/png:https://proveda.com.au/wp-content/uploads/2026/02/CIC-Events-4-D2KD-FINAL-w_pics_-8-August-2026-scaled.png
ORGANIZER;CN="Cark It Cafe":MAILTO:carkitcafe@gmail.com
GEO:-33.878404;151.2161779
X-APPLE-STRUCTURED-LOCATION;VALUE=URI;X-ADDRESS=East Sydney Community and Arts Centre 40 Burton Street Darlinghurst NSW 2010 Australia;X-APPLE-RADIUS=500;X-TITLE=40 Burton Street:geo:151.2161779,-33.878404
END:VEVENT
END:VCALENDAR