BEGIN:VCALENDAR
VERSION:2.0
PRODID:-//Proveda - ECPv6.15.18//NONSGML v1.0//EN
CALSCALE:GREGORIAN
METHOD:PUBLISH
X-ORIGINAL-URL:https://proveda.com.au
X-WR-CALDESC:Events for Proveda
REFRESH-INTERVAL;VALUE=DURATION:PT1H
X-Robots-Tag:noindex
X-PUBLISHED-TTL:PT1H
BEGIN:VTIMEZONE
TZID:Australia/Perth
BEGIN:STANDARD
TZOFFSETFROM:+0800
TZOFFSETTO:+0800
TZNAME:AWST
DTSTART:20230101T000000
END:STANDARD
END:VTIMEZONE
BEGIN:VEVENT
DTSTART;TZID=Australia/Perth:20240808T050000
DTEND;TZID=Australia/Perth:20240808T190000
DTSTAMP:20260420T210248
CREATED:20240808T054204Z
LAST-MODIFIED:20240808T054851Z
UID:10005096-1723093200-1723143600@proveda.com.au
SUMMARY:Dying to Know Day - Esperance\, WA
DESCRIPTION:AT ESPERANCE FUNERAL SERVICES \nLOT 818 WOODS ST\, Esperance WA 6450 \n5pm – First tour of the facility \n5.30 – Community memorial service \n6pm – More tours\, depending on numbers \nRefreshments available throughout. \n  \nThis is the National Dying to Know official day\, so come along to our Esperance event. \n  \nFor more information: \nHeather 90713245\, Sue 0439524111
URL:https://proveda.com.au/event/dying-to-know-day-esperance-wa/
LOCATION:Esperance Funeral Services\, Woods Street\, Chadwick\, Shire of Esperance\, 6450\, Australia
ATTACH;FMTTYPE=image/png:https://proveda.com.au/wp-content/uploads/2024/08/Get-Dead-Set.png
ORGANIZER;CN="Susan Starr":MAILTO:suestarr.cmc@westnet.com.au
GEO:-33.8407334;121.8916636
X-APPLE-STRUCTURED-LOCATION;VALUE=URI;X-ADDRESS=Esperance Funeral Services Woods Street Chadwick Shire of Esperance 6450 Australia;X-APPLE-RADIUS=500;X-TITLE=Woods Street:geo:121.8916636,-33.8407334
END:VEVENT
END:VCALENDAR