BEGIN:VCALENDAR
VERSION:2.0
PRODID:-//Proveda - ECPv6.15.18//NONSGML v1.0//EN
CALSCALE:GREGORIAN
METHOD:PUBLISH
X-WR-CALNAME:Proveda
X-ORIGINAL-URL:https://proveda.com.au
X-WR-CALDESC:Events for Proveda
REFRESH-INTERVAL;VALUE=DURATION:PT1H
X-Robots-Tag:noindex
X-PUBLISHED-TTL:PT1H
BEGIN:VTIMEZONE
TZID:Australia/Sydney
BEGIN:STANDARD
TZOFFSETFROM:+1100
TZOFFSETTO:+1000
TZNAME:AEST
DTSTART:20230401T160000
END:STANDARD
BEGIN:DAYLIGHT
TZOFFSETFROM:+1000
TZOFFSETTO:+1100
TZNAME:AEDT
DTSTART:20230930T160000
END:DAYLIGHT
BEGIN:STANDARD
TZOFFSETFROM:+1100
TZOFFSETTO:+1000
TZNAME:AEST
DTSTART:20240406T160000
END:STANDARD
BEGIN:DAYLIGHT
TZOFFSETFROM:+1000
TZOFFSETTO:+1100
TZNAME:AEDT
DTSTART:20241005T160000
END:DAYLIGHT
BEGIN:STANDARD
TZOFFSETFROM:+1100
TZOFFSETTO:+1000
TZNAME:AEST
DTSTART:20250405T160000
END:STANDARD
BEGIN:DAYLIGHT
TZOFFSETFROM:+1000
TZOFFSETTO:+1100
TZNAME:AEDT
DTSTART:20251004T160000
END:DAYLIGHT
BEGIN:STANDARD
TZOFFSETFROM:+1100
TZOFFSETTO:+1000
TZNAME:AEST
DTSTART:20260404T160000
END:STANDARD
BEGIN:DAYLIGHT
TZOFFSETFROM:+1000
TZOFFSETTO:+1100
TZNAME:AEDT
DTSTART:20261003T160000
END:DAYLIGHT
END:VTIMEZONE
BEGIN:VEVENT
DTSTART;TZID=Australia/Sydney:20250729T180000
DTEND;TZID=Australia/Sydney:20250730T163000
DTSTAMP:20260423T004149
CREATED:20250407T071314Z
LAST-MODIFIED:20250723T014905Z
UID:10005874-1753812000-1753893000@proveda.com.au
SUMMARY:Compassionate Connector Training - July 2025
DESCRIPTION:The Compassionate Connector Program is a unique program that connects volunteers – Connectors – with people in the community who are over 65 living with life changing illness. As a connector you will emotionally support and help build social networks with your person\, as well as family and friends around them. This is a little different to traditional volunteering\, as an essential part of your support is to find additional supports in the persons community. This can be connecting with a neighbour\, helping connect with formal services\, or arranging for help in the persons existing network with everyday tasks like getting to appointments etc.   \nBecause of the unique character of this volunteering program\, in order to become a Connector\, the first step is to participate in our very enjoyable quality training before we match you with a participant. This training is complimentary and helps prepare you for the Connector experience. Importantly\, it also allows you to meet others like-minded and is the start of the ongoing support Proveda offers throughout your Connector experience.   \n  \nWhen: Tuesday 29th July (6pm-9pm) – Wednesday\, 30th July (9am – 4.30pm) \nWhere:  Newport Community Centre\, 11-13 The Boulevard\, Newport \n\n  \nWhat previous participants say  \n“Thoroughly enjoyed the day. The trainer was wonderful. She held the room well\, provided a safe and nurturing environment giving everyone a voice to share.”  – Simon \n“The content was very relevant. The pace was good. And the environment was respectful and supported.”  – Daniela  \n“Loved the way the facilitator could allow discussion to flow even if it meant changing the schedule.”  – Helen 
URL:https://proveda.com.au/event/compassionate-connector-training-july-2025/
LOCATION:Newport Community Centre\, The Boulevarde\, Newport\, Northern Beaches Council\, 2106\, Australia
CATEGORIES:Compassionate Communities
ATTACH;FMTTYPE=image/jpeg:https://proveda.com.au/wp-content/uploads/2025/02/Danni-and-Tahlee-scaled.jpg
ORGANIZER;CN="Proveda - Compassionate Connector Program":MAILTO:connectorprogram@proveda.com.au
GEO:-33.6571377;151.3193348
X-APPLE-STRUCTURED-LOCATION;VALUE=URI;X-ADDRESS=Newport Community Centre The Boulevarde Newport Northern Beaches Council 2106 Australia;X-APPLE-RADIUS=500;X-TITLE=The Boulevarde:geo:151.3193348,-33.6571377
END:VEVENT
BEGIN:VEVENT
DTSTART;TZID=Australia/Sydney:20240808T093000
DTEND;TZID=Australia/Sydney:20240808T113000
DTSTAMP:20260423T004149
CREATED:20240704T031837Z
LAST-MODIFIED:20240704T031837Z
UID:10002977-1723109400-1723116600@proveda.com.au
SUMMARY:DEMYSTIFYING DEATH - Dying to Know Day community event\, Northern Beaches\, Sydney
DESCRIPTION:How would you like your end of life to be? Can death be done better? How have your death experiences shaped your life? \nJoin us for our ‘DYING TO KNOW DAY’ community event that will bring us together to demystify death and dying.  Let’s open up the difficult and somewhat avoided end of life conversations that are so needed. \nWe will look at beliefs\, provide real education\, and breakdown how we can improve the relationship with our own mortality. \nWhether you are preparing for the death of someone close to you\, planning for your own end of life\, or want to take a deep dive into what the options may look like\, please join us for our free morning tea event. \nYou will be supported on the day by your end of life community. We hope to see you there!
URL:https://proveda.com.au/event/demystifying-death-dying-to-know-day-community-event-northern-beaches-sydney/
LOCATION:Newport Community Centre\, The Boulevarde\, Newport\, Northern Beaches Council\, 2106\, Australia
CATEGORIES:Dying To Know Day
ATTACH;FMTTYPE=image/jpeg:https://proveda.com.au/wp-content/uploads/2024/07/DYING-TO-KNOW-DAY-DEMYSTIFYING-DEATH-Community-Event-1.jpg
ORGANIZER;CN="Full Circle End of Life Matters":MAILTO:anne@fullcirclematters.com.au
GEO:-33.6571377;151.3193348
X-APPLE-STRUCTURED-LOCATION;VALUE=URI;X-ADDRESS=Newport Community Centre The Boulevarde Newport Northern Beaches Council 2106 Australia;X-APPLE-RADIUS=500;X-TITLE=The Boulevarde:geo:151.3193348,-33.6571377
END:VEVENT
END:VCALENDAR