BEGIN:VCALENDAR
VERSION:2.0
PRODID:-//Proveda - ECPv6.15.18//NONSGML v1.0//EN
CALSCALE:GREGORIAN
METHOD:PUBLISH
X-WR-CALNAME:Proveda
X-ORIGINAL-URL:https://proveda.com.au
X-WR-CALDESC:Events for Proveda
REFRESH-INTERVAL;VALUE=DURATION:PT1H
X-Robots-Tag:noindex
X-PUBLISHED-TTL:PT1H
BEGIN:VTIMEZONE
TZID:Australia/Sydney
BEGIN:STANDARD
TZOFFSETFROM:+1100
TZOFFSETTO:+1000
TZNAME:AEST
DTSTART:20250405T160000
END:STANDARD
BEGIN:DAYLIGHT
TZOFFSETFROM:+1000
TZOFFSETTO:+1100
TZNAME:AEDT
DTSTART:20251004T160000
END:DAYLIGHT
BEGIN:STANDARD
TZOFFSETFROM:+1100
TZOFFSETTO:+1000
TZNAME:AEST
DTSTART:20260404T160000
END:STANDARD
BEGIN:DAYLIGHT
TZOFFSETFROM:+1000
TZOFFSETTO:+1100
TZNAME:AEDT
DTSTART:20261003T160000
END:DAYLIGHT
BEGIN:STANDARD
TZOFFSETFROM:+1100
TZOFFSETTO:+1000
TZNAME:AEST
DTSTART:20270403T160000
END:STANDARD
BEGIN:DAYLIGHT
TZOFFSETFROM:+1000
TZOFFSETTO:+1100
TZNAME:AEDT
DTSTART:20271002T160000
END:DAYLIGHT
END:VTIMEZONE
BEGIN:VEVENT
DTSTART;TZID=Australia/Sydney:20261124T100000
DTEND;TZID=Australia/Sydney:20261124T113000
DTSTAMP:20260424T002653
CREATED:20240206T051924Z
LAST-MODIFIED:20251120T000225Z
UID:10006828-1795514400-1795519800@proveda.com.au
SUMMARY:Connected Café: Avalon
DESCRIPTION:Our Connected Café groups are held in many different locations on the Northern Beaches.\nThese casual coffee groups are led by local people who are dedicated to supporting people to connect with their community in a meaningful way.
URL:https://proveda.com.au/event/connected-cafe-avalon/2026-11-24/
LOCATION:Swell Café\, 74 Old Barrenjoey Rd\, Avalon Beach\, NSW\, 2107\, Australia
CATEGORIES:Belong Club
ATTACH;FMTTYPE=image/png:https://proveda.com.au/wp-content/uploads/2024/02/BC-Event-Connected-Cafe-WEB-1.png
ORGANIZER;CN="Proveda":MAILTO:events@proveda.com.au
GEO:-33.6362371;151.3297853
X-APPLE-STRUCTURED-LOCATION;VALUE=URI;X-ADDRESS=Swell Café 74 Old Barrenjoey Rd Avalon Beach NSW 2107 Australia;X-APPLE-RADIUS=500;X-TITLE=74 Old Barrenjoey Rd:geo:151.3297853,-33.6362371
END:VEVENT
BEGIN:VEVENT
DTSTART;TZID=Australia/Sydney:20261201T100000
DTEND;TZID=Australia/Sydney:20261201T113000
DTSTAMP:20260424T002653
CREATED:20240206T051924Z
LAST-MODIFIED:20251120T000225Z
UID:10006829-1796119200-1796124600@proveda.com.au
SUMMARY:Connected Café: Avalon
DESCRIPTION:Our Connected Café groups are held in many different locations on the Northern Beaches.\nThese casual coffee groups are led by local people who are dedicated to supporting people to connect with their community in a meaningful way.
URL:https://proveda.com.au/event/connected-cafe-avalon/2026-12-01/
LOCATION:Swell Café\, 74 Old Barrenjoey Rd\, Avalon Beach\, NSW\, 2107\, Australia
CATEGORIES:Belong Club
ATTACH;FMTTYPE=image/png:https://proveda.com.au/wp-content/uploads/2024/02/BC-Event-Connected-Cafe-WEB-1.png
ORGANIZER;CN="Proveda":MAILTO:events@proveda.com.au
GEO:-33.6362371;151.3297853
X-APPLE-STRUCTURED-LOCATION;VALUE=URI;X-ADDRESS=Swell Café 74 Old Barrenjoey Rd Avalon Beach NSW 2107 Australia;X-APPLE-RADIUS=500;X-TITLE=74 Old Barrenjoey Rd:geo:151.3297853,-33.6362371
END:VEVENT
BEGIN:VEVENT
DTSTART;TZID=Australia/Sydney:20261208T100000
DTEND;TZID=Australia/Sydney:20261208T113000
DTSTAMP:20260424T002653
CREATED:20240206T051924Z
LAST-MODIFIED:20251120T000225Z
UID:10006830-1796724000-1796729400@proveda.com.au
SUMMARY:Connected Café: Avalon
DESCRIPTION:Our Connected Café groups are held in many different locations on the Northern Beaches.\nThese casual coffee groups are led by local people who are dedicated to supporting people to connect with their community in a meaningful way.
URL:https://proveda.com.au/event/connected-cafe-avalon/2026-12-08/
LOCATION:Swell Café\, 74 Old Barrenjoey Rd\, Avalon Beach\, NSW\, 2107\, Australia
CATEGORIES:Belong Club
ATTACH;FMTTYPE=image/png:https://proveda.com.au/wp-content/uploads/2024/02/BC-Event-Connected-Cafe-WEB-1.png
ORGANIZER;CN="Proveda":MAILTO:events@proveda.com.au
GEO:-33.6362371;151.3297853
X-APPLE-STRUCTURED-LOCATION;VALUE=URI;X-ADDRESS=Swell Café 74 Old Barrenjoey Rd Avalon Beach NSW 2107 Australia;X-APPLE-RADIUS=500;X-TITLE=74 Old Barrenjoey Rd:geo:151.3297853,-33.6362371
END:VEVENT
BEGIN:VEVENT
DTSTART;TZID=Australia/Sydney:20261215T100000
DTEND;TZID=Australia/Sydney:20261215T113000
DTSTAMP:20260424T002653
CREATED:20240206T051924Z
LAST-MODIFIED:20251120T000225Z
UID:10006831-1797328800-1797334200@proveda.com.au
SUMMARY:Connected Café: Avalon
DESCRIPTION:Our Connected Café groups are held in many different locations on the Northern Beaches.\nThese casual coffee groups are led by local people who are dedicated to supporting people to connect with their community in a meaningful way.
URL:https://proveda.com.au/event/connected-cafe-avalon/2026-12-15/
LOCATION:Swell Café\, 74 Old Barrenjoey Rd\, Avalon Beach\, NSW\, 2107\, Australia
CATEGORIES:Belong Club
ATTACH;FMTTYPE=image/png:https://proveda.com.au/wp-content/uploads/2024/02/BC-Event-Connected-Cafe-WEB-1.png
ORGANIZER;CN="Proveda":MAILTO:events@proveda.com.au
GEO:-33.6362371;151.3297853
X-APPLE-STRUCTURED-LOCATION;VALUE=URI;X-ADDRESS=Swell Café 74 Old Barrenjoey Rd Avalon Beach NSW 2107 Australia;X-APPLE-RADIUS=500;X-TITLE=74 Old Barrenjoey Rd:geo:151.3297853,-33.6362371
END:VEVENT
BEGIN:VEVENT
DTSTART;TZID=Australia/Sydney:20261222T100000
DTEND;TZID=Australia/Sydney:20261222T113000
DTSTAMP:20260424T002653
CREATED:20240206T051924Z
LAST-MODIFIED:20251120T000225Z
UID:10006832-1797933600-1797939000@proveda.com.au
SUMMARY:Connected Café: Avalon
DESCRIPTION:Our Connected Café groups are held in many different locations on the Northern Beaches.\nThese casual coffee groups are led by local people who are dedicated to supporting people to connect with their community in a meaningful way.
URL:https://proveda.com.au/event/connected-cafe-avalon/2026-12-22/
LOCATION:Swell Café\, 74 Old Barrenjoey Rd\, Avalon Beach\, NSW\, 2107\, Australia
CATEGORIES:Belong Club
ATTACH;FMTTYPE=image/png:https://proveda.com.au/wp-content/uploads/2024/02/BC-Event-Connected-Cafe-WEB-1.png
ORGANIZER;CN="Proveda":MAILTO:events@proveda.com.au
GEO:-33.6362371;151.3297853
X-APPLE-STRUCTURED-LOCATION;VALUE=URI;X-ADDRESS=Swell Café 74 Old Barrenjoey Rd Avalon Beach NSW 2107 Australia;X-APPLE-RADIUS=500;X-TITLE=74 Old Barrenjoey Rd:geo:151.3297853,-33.6362371
END:VEVENT
END:VCALENDAR