BEGIN:VCALENDAR
VERSION:2.0
PRODID:-//Proveda - ECPv6.15.18//NONSGML v1.0//EN
CALSCALE:GREGORIAN
METHOD:PUBLISH
X-WR-CALNAME:Proveda
X-ORIGINAL-URL:https://proveda.com.au
X-WR-CALDESC:Events for Proveda
REFRESH-INTERVAL;VALUE=DURATION:PT1H
X-Robots-Tag:noindex
X-PUBLISHED-TTL:PT1H
BEGIN:VTIMEZONE
TZID:Australia/Sydney
BEGIN:STANDARD
TZOFFSETFROM:+1100
TZOFFSETTO:+1000
TZNAME:AEST
DTSTART:20230401T160000
END:STANDARD
BEGIN:DAYLIGHT
TZOFFSETFROM:+1000
TZOFFSETTO:+1100
TZNAME:AEDT
DTSTART:20230930T160000
END:DAYLIGHT
BEGIN:STANDARD
TZOFFSETFROM:+1100
TZOFFSETTO:+1000
TZNAME:AEST
DTSTART:20240406T160000
END:STANDARD
BEGIN:DAYLIGHT
TZOFFSETFROM:+1000
TZOFFSETTO:+1100
TZNAME:AEDT
DTSTART:20241005T160000
END:DAYLIGHT
BEGIN:STANDARD
TZOFFSETFROM:+1100
TZOFFSETTO:+1000
TZNAME:AEST
DTSTART:20250405T160000
END:STANDARD
BEGIN:DAYLIGHT
TZOFFSETFROM:+1000
TZOFFSETTO:+1100
TZNAME:AEDT
DTSTART:20251004T160000
END:DAYLIGHT
END:VTIMEZONE
BEGIN:VEVENT
DTSTART;TZID=Australia/Sydney:20240712T191500
DTEND;TZID=Australia/Sydney:20240712T210000
DTSTAMP:20260422T210859
CREATED:20240618T021427Z
LAST-MODIFIED:20240625T040529Z
UID:10002942-1720811700-1720818000@proveda.com.au
SUMMARY:Empathy Under The Stars
DESCRIPTION:We all love a little compassion and getting into deeper conversations.  \nThis evening workshop will introduce world changing ideas from philosophy and science on the power of human connection\, compassion and kindness. All while you’re rugged up with a hot cup of tea. \nAfter introducing each powerful idea\, we will break into pairs or small groups for discussion. Every ten to fifteen minutes\, we’ll introduce a new idea or exercise and break out to chat with some new friends. \nWe’re all kind at heart and good at talk but we believe that empathy is muscle and conversation is an art. They take work and this is just the workshop to cultivate them. \nCome join us for this very first heartwarming opportunity to open up one’s social circle in a friendly and curious environment.  Meet a variety of new people from the beaches\, explore your better nature and bring a little more compassion into your world. \nThe event includes free tea\, coffee and biscuits and blankets but feel free to bring food and drink for yourself (or to share). \nThe workshop will be indoors but\, weather providing\, we will walk outside for some time under the night sky.
URL:https://proveda.com.au/event/empathy-under-the-stars/
LOCATION:Ted Blackwood Youth and Community Centre\, Boondah Road\, Warriewood\, Northern Beaches Council\, 2102\, Australia
CATEGORIES:Compassionate Communities
ATTACH;FMTTYPE=image/png:https://proveda.com.au/wp-content/uploads/2024/06/Empathy-Under-the-Stars.png
ORGANIZER;CN="AJ Tennant":MAILTO:ajtennant@gmail.com
GEO:-33.6971346;151.2986323
X-APPLE-STRUCTURED-LOCATION;VALUE=URI;X-ADDRESS=Ted Blackwood Youth and Community Centre Boondah Road Warriewood Northern Beaches Council 2102 Australia;X-APPLE-RADIUS=500;X-TITLE=Boondah Road:geo:151.2986323,-33.6971346
END:VEVENT
END:VCALENDAR